BEGIN:VCALENDAR
VERSION:2.0
METHOD:PUBLISH
PRODID:-//Tendenci - The Open Source AMS for Associations//Tendenci Codeba
 se MIMEDIR//EN
BEGIN:VEVENT
DESCRIPTION:--- This iCal file does *NOT* confirm registration.\nEvent det
 ails subject to change. ---\nhttps://www.caf-fcv.ca/events/93/\n\nEvent Ti
 tle: Webinar: Simplifying Complex Customs Regulations and Calculating Accu
 rate Tariffs and Origin Determination\nStart Date / Time: Mar 19, 2026 14:
 00 PM America/Toronto\nLocation: \nSpeaker: Travis Miller, Brian Staples, 
 Jeremy Harris, Chris Thibedeau\nJoin Customs and Trade experts for a must-
 attend webinar on leveraging powerful AI agents to solve complex trade cha
 llenges. Gain predictable, actionable insights to maximize profit and secu
 re your competitive edge.\nThis presentation will demonstrate how to accur
 ately:\n\nDetermine the HS Classification for any commodity.\nObtain an ac
 curate Origin Determination for proper tariff treatment.\nCalculate the Fu
 ll Landed Cost of goods imported into various markets, including a detaile
 d duty and tax breakdown.\nIdentify Alternative Sourcing locations dynamic
 ally and in real-time for the lowest duty rates.\n\nThis vital session wil
 l equip you with the knowledge to increase margins, eliminate unnecessary 
 costs, and confidently source your goods globally&mdash\;regardless of the
  pace of trade policy changes.\n\n--- This iCal file does *NOT* confirm re
 gistration.Event details subject to change. ---\n\n--- By Tendenci - The O
 pen Source AMS for Associations ---\n
UID:uid93@caf-fcv.ca
SUMMARY:Webinar: Simplifying Complex Customs Regulations and Calculating Accurate Tariffs and Origin Determination
DTSTART:20260319T140000Z
DTEND:20260319T150000Z
CLASS:PUBLIC
PRIORITY:5
DTSTAMP:20260424T052241Z
TRANSP:OPAQUE
SEQUENCE:0
X-ALT-DESC;FMTTYPE=text/html:<div>--- This iCal file does *NOT* confirm re
 gistration.Event details subject to change. ---</div><h1>Event Title: Webi
 nar: Simplifying Complex Customs Regulations and Calculating Accurate Tari
 ffs and Origin Determination</h1><div>https://www.caf-fcv.ca/events/93/</d
 iv><br /><div>When: Mar 19, 2026 14:00 PM America/Toronto</div><div>Speake
 r: Travis Miller, Brian Staples, Jeremy Harris, Chris Thibedeau</div><br /
 ><div><p><span class="appsElementsGenerativeaiAstAnimated" data-ast-node-i
 d="1">Join Customs and Trade experts for a must-attend webinar on leveragi
 ng powerful AI agents to solve complex trade challenges. Gain predictable,
  actionable insights to maximize profit and secure your competitive edge.<
 /span></p> <p><span class="appsElementsGenerativeaiAstAnimated" data-ast-n
 ode-id="2">This presentation will demonstrate how to accurately:</span></p
 > <ul class="appsElementsGenerativeaiAstList"> <li class="appsElementsGene
 rativeaiAstAnimated"><span class="appsElementsGenerativeaiAstAnimated" dat
 a-ast-node-id="3">Determine the&nbsp\;</span><strong><span class="appsElem
 entsGenerativeaiAstAnimated" data-ast-node-id="4">HS Classification</span>
 </strong><span class="appsElementsGenerativeaiAstAnimated" data-ast-node-i
 d="5">&nbsp\;for any commodity.</span></li> <li class="appsElementsGenerat
 iveaiAstAnimated"><span class="appsElementsGenerativeaiAstAnimated" data-a
 st-node-id="6">Obtain an accurate&nbsp\;</span><strong><span class="appsEl
 ementsGenerativeaiAstAnimated" data-ast-node-id="7">Origin Determination</
 span></strong><span class="appsElementsGenerativeaiAstAnimated" data-ast-n
 ode-id="8">&nbsp\;for proper tariff treatment.</span></li> <li class="apps
 ElementsGenerativeaiAstAnimated"><span class="appsElementsGenerativeaiAstA
 nimated" data-ast-node-id="9">Calculate the&nbsp\;</span><strong><span cla
 ss="appsElementsGenerativeaiAstAnimated" data-ast-node-id="10">Full Landed
  Cost</span></strong><span class="appsElementsGenerativeaiAstAnimated" dat
 a-ast-node-id="11">&nbsp\;of goods imported into various markets, includin
 g a detailed duty and tax breakdown.</span></li> <li class="appsElementsGe
 nerativeaiAstAnimated"><span class="appsElementsGenerativeaiAstAnimated" d
 ata-ast-node-id="12">Identify&nbsp\;</span><strong><span class="appsElemen
 tsGenerativeaiAstAnimated" data-ast-node-id="13">Alternative Sourcing</spa
 n></strong><span class="appsElementsGenerativeaiAstAnimated" data-ast-node
 -id="14">&nbsp\;locations dynamically and in real-time for the lowest duty
  rates.</span></li> </ul> <p><span class="appsElementsGenerativeaiAstAnima
 ted" data-ast-node-id="15">This vital session will equip you with the know
 ledge to increase margins, eliminate unnecessary costs, and confidently so
 urce your goods globally&mdash\;regardless of the pace of trade policy cha
 nges.</span></p></div><div>--- This iCal file does *NOT* confirm registrat
 ion.Event details subject to change. ---</div><div>--- Tendenci&reg\; Soft
 ware by <a href="https://www.tendenci.com">tendenci.com</a> - The Open Sou
 rce AMS for Associations ---</div>
BEGIN:VALARM
TRIGGER:-PT30M
ACTION:DISPLAY
DESCRIPTION:Reminder
END:VALARM
END:VEVENT
END:VCALENDAR
