BEGIN:VCALENDAR
VERSION:2.0
METHOD:PUBLISH
PRODID:-//Tendenci - The Open Source AMS for Associations//Tendenci Codeba
 se MIMEDIR//EN
BEGIN:VEVENT
DESCRIPTION:--- This iCal file does *NOT* confirm registration.\nEvent det
 ails subject to change. ---\nhttps://www.caf-fcv.ca/events/77/\n\nEvent Ti
 tle: TEXPROCESS\nStart Date / Time: Apr 21, 2026 04:00 AM Europe/Copenhage
 n\nLocation: Congress Center Messe Frankfurt\n\n\n\n\n\n\n\nFrom idea to t
 angible results.\n\n\n\n\n\n\nFrom 21 to 24 April 2026, international exhi
 bitors show how to manufacture the future with maximum precision. \nWelcom
 e to Texprocess! The textile industry's platform for processing technologi
 es. This is where the industry demonstrates what customised solutions look
  like. Experience efficient and scalable processing - driven by automation
 , digitalisation and AI. And the technologies for garment manufacturing en
 sure that Texprocess is always in fashion.\n \n\n\n\n\n\n\n\n\n--- This iC
 al file does *NOT* confirm registration.Event details subject to change. -
 --\n\n--- By Tendenci - The Open Source AMS for Associations ---\n
UID:uid77@caf-fcv.ca
SUMMARY:TEXPROCESS
DTSTART:20260421T040000Z
DTEND:20260425T035959Z
CLASS:PUBLIC
PRIORITY:5
DTSTAMP:20260421T025415Z
TRANSP:OPAQUE
SEQUENCE:0
LOCATION:Congress Center Messe Frankfurt
X-ALT-DESC;FMTTYPE=text/html:<div>--- This iCal file does *NOT* confirm re
 gistration.Event details subject to change. ---</div><h1>Event Title: TEXP
 ROCESS</h1><div>https://www.caf-fcv.ca/events/77/</div><br /><div>When: Ap
 r 21, 2026 04:00 AM Europe/Copenhagen</div><br /><div><div class="j2Owzh W
 prg5l" data-hook="content"> <div class="Rz7J9y"> <div class="XQpnAl HqEbWK
 " data-hook="short-date-location"> <div class="LQpUqV AinsX6 wu0Sg9" data-
 hook="ev-short-date-location"> <div class="richtext abstractComponent"> <d
 iv class="row"> <div class="m-rich-text col-sm-10 col-md-8 " data-t-name="
 RichText" data-t-id="17"> <h4><strong>From idea to tangible results.</stro
 ng></h4> </div> </div> </div> <div class="richtext abstractComponent"> <di
 v class="row"> <div class="m-rich-text col-sm-10 col-md-8 " data-t-name="R
 ichText" data-t-id="18"> <p><span class="a-copy-lead">From 21 to 24 April 
 2026, international exhibitors show how to manufacture the future with max
 imum precision. </span></p> <p><span class="a-copy-lead">Welcome to Texpro
 cess! The textile industry's platform for processing technologies. This is
  where the industry demonstrates what customised solutions look like. Expe
 rience efficient and scalable processing - driven by automation, digitalis
 ation and AI. And the technologies for garment manufacturing ensure that T
 exprocess is always in fashion.</span></p> <p>&nbsp\;</p> </div> </div> </
 div> </div> </div> </div> </div></div><div>--- This iCal file does *NOT* c
 onfirm registration.Event details subject to change. ---</div><div>--- Ten
 denci&reg\; Software by <a href="https://www.tendenci.com">tendenci.com</a
 > - The Open Source AMS for Associations ---</div>
BEGIN:VALARM
TRIGGER:-PT30M
ACTION:DISPLAY
DESCRIPTION:Reminder
END:VALARM
END:VEVENT
END:VCALENDAR
