BEGIN:VCALENDAR
VERSION:2.0
METHOD:PUBLISH
PRODID:-//Tendenci - The Open Source AMS for Associations//Tendenci Codeba
 se MIMEDIR//EN
BEGIN:VEVENT
DESCRIPTION:--- This iCal file does *NOT* confirm registration.\nEvent det
 ails subject to change. ---\nhttps://www.caf-fcv.ca/events/76/\n\nEvent Ti
 tle: TECHTEXTIL\nStart Date / Time: Apr 21, 2026 04:00 AM US/Central\nLoca
 tion: Congress Center Messe Frankfurt\n\n From April 21 to 24, 2026, count
 less national and international exhibitors will showcase the full spectrum
  of high-tech textiles across twelve application areas. However, research,
  development, and scalable implementation thrive best when the entire valu
 e chain is present. That's why Texprocess will be held in close proximity 
 at the same time. This is how ideas turn into results.\n\n\n--- This iCal 
 file does *NOT* confirm registration.Event details subject to change. ---\
 n\n--- By Tendenci - The Open Source AMS for Associations ---\n
UID:uid76@caf-fcv.ca
SUMMARY:TECHTEXTIL
DTSTART:20260421T040000Z
DTEND:20260425T035959Z
CLASS:PUBLIC
PRIORITY:5
DTSTAMP:20260421T094803Z
TRANSP:OPAQUE
SEQUENCE:0
LOCATION:Congress Center Messe Frankfurt
X-ALT-DESC;FMTTYPE=text/html:<div>--- This iCal file does *NOT* confirm re
 gistration.Event details subject to change. ---</div><h1>Event Title: TECH
 TEXTIL</h1><div>https://www.caf-fcv.ca/events/76/</div><br /><div>When: Ap
 r 21, 2026 04:00 AM US/Central</div><br /><div><div class="FSt5JW"> <div d
 ata-hook="ev-full-date-location">&nbsp\;From April 21 to 24, 2026, countle
 ss national and international exhibitors will showcase the full spectrum o
 f high-tech textiles across twelve application areas. However, research, d
 evelopment, and scalable implementation thrive best when the entire value 
 chain is present. That's why Texprocess will be held in close proximity at
  the same time. This is how ideas turn into results.</div> </div></div><di
 v>--- This iCal file does *NOT* confirm registration.Event details subject
  to change. ---</div><div>--- Tendenci&reg\; Software by <a href="https://
 www.tendenci.com">tendenci.com</a> - The Open Source AMS for Associations 
 ---</div>
BEGIN:VALARM
TRIGGER:-PT30M
ACTION:DISPLAY
DESCRIPTION:Reminder
END:VALARM
END:VEVENT
END:VCALENDAR
