BEGIN:VCALENDAR
VERSION:2.0
METHOD:PUBLISH
PRODID:-//Tendenci - The Open Source AMS for Associations//Tendenci Codeba
 se MIMEDIR//EN
BEGIN:VEVENT
DESCRIPTION:--- This iCal file does *NOT* confirm registration.\nEvent det
 ails subject to change. ---\nhttps://www.caf-fcv.ca/events/10/\n\nEvent Ti
 tle: TEXPROCESS - Germany\nStart Date / Time: Apr 23, 2024 15:00 PM Europe
 /Copenhagen\nLocation: \n\n\n\n \n\n\n\n\n\n \n\nAt the upcoming Texproces
 s from 23 to 26 April 2024, international exhibitors will present the late
 st machinery, equipment, processes and services for garment manufacturing 
 and textile and flexible materials.\n\n\n\n\n \n\n\n--- This iCal file doe
 s *NOT* confirm registration.Event details subject to change. ---\n\n--- B
 y Tendenci - The Open Source AMS for Associations ---\n
UID:uid10@caf-fcv.ca
SUMMARY:TEXPROCESS - Germany
DTSTART:20240423T150000Z
DTEND:20240426T220000Z
CLASS:PUBLIC
PRIORITY:5
DTSTAMP:20260421T183903Z
TRANSP:OPAQUE
SEQUENCE:0
X-ALT-DESC;FMTTYPE=text/html:<div>--- This iCal file does *NOT* confirm re
 gistration.Event details subject to change. ---</div><h1>Event Title: TEXP
 ROCESS - Germany</h1><div>https://www.caf-fcv.ca/events/10/</div><br /><di
 v>When: Apr 23, 2024 15:00 PM Europe/Copenhagen</div><br /><div><div class
 ="j2Owzh Wprg5l" data-hook="content"> <div class="Rz7J9y"> <div class="XQp
 nAl HqEbWK" data-hook="short-date-location"> <div class="LQpUqV AinsX6 wu0
 Sg9" data-hook="ev-short-date-location">&nbsp\;</div> </div> </div> <div c
 lass="Rz7J9y l8kN2j"> <div class="soFaaO XQpnAl" data-hook="details"> <div
  class="FSt5JW"> <div data-hook="ev-full-date-location">&nbsp\;</div> </di
 v> <div class="MizEne" data-hook="description">At the upcoming Texprocess 
 from 23 to 26 April 2024, international exhibitors will present the latest
  machinery, equipment, processes and services for garment manufacturing an
 d textile and flexible materials.</div> </div> </div> </div> <div class="x
 IRXBd"> <div class="tNMQKh" data-hook="button-section">&nbsp\;</div> </div
 ></div><div>--- This iCal file does *NOT* confirm registration.Event detai
 ls subject to change. ---</div><div>--- Tendenci&reg\; Software by <a href
 ="https://www.tendenci.com">tendenci.com</a> - The Open Source AMS for Ass
 ociations ---</div>
BEGIN:VALARM
TRIGGER:-PT30M
ACTION:DISPLAY
DESCRIPTION:Reminder
END:VALARM
END:VEVENT
END:VCALENDAR
